BEGIN:VCALENDAR
PRODID:-//kirchenweb.ch gmbh//veranstaltungsausgabe v2.0//DE
VERSION:2.0
METHOD:PUBLISH
BEGIN:VEVENT
DTSTART;VALUE=DATE:20260612
DTEND;VALUE=DATE:20260613
LOCATION:Spitzkirche\, Klosterinsel\, 8462 Rheinau
TRANSP:OPAQUE
SEQUENCE:0
UID:2707-veranstaltung@kirche-wm.ch
DTSTAMP:20251103T070513Z
DESCRIPTION:Kontakt: Pascal Mettler - mettler@kulturbau.ch\nWerner
  Schweizer\n\nWeitere Infos: https://www.kirche-wm.ch/veranstaltung/2707
SUMMARY:Inselfestival Rheinau
PRIORITY:5
X-MICROSOFT-CDO-IMPORTANCE:1
CLASS:PUBLIC
END:VEVENT
END:VCALENDAR
