BEGIN:VCALENDAR
PRODID:-//kirchenweb.ch gmbh//veranstaltungsausgabe v2.0//DE
VERSION:2.0
METHOD:PUBLISH
BEGIN:VEVENT
DTSTART:20260512T153000Z
DTEND:20260512T173000Z
LOCATION:Foyer Einkehrsaal\, Strählgass 7\, 8475 Ossingen
TRANSP:OPAQUE
SEQUENCE:0
UID:4263-veranstaltung@kirche-wm.ch
DTSTAMP:20250413T172245Z
DESCRIPTION:Vorbilder\nWer war Albert Schweitzer\n\nKontakt: Monika
  Nägeli\n\nWeitere Infos: https://www.kirche-wm.ch/veranstaltung/4263
SUMMARY:JuKi
PRIORITY:5
X-MICROSOFT-CDO-IMPORTANCE:1
CLASS:PUBLIC
END:VEVENT
END:VCALENDAR
