BEGIN:VCALENDAR
PRODID:-//kirchenweb.ch gmbh//veranstaltungsausgabe v2.0//DE
VERSION:2.0
METHOD:PUBLISH
BEGIN:VEVENT
DTSTART:20260618T162000Z
DTEND:20260618T172000Z
LOCATION:Kirche\, Schlossgasse\, 8466 Trüllikon
TRANSP:OPAQUE
SEQUENCE:0
UID:4289-veranstaltung@kirche-wm.ch
DTSTAMP:20251029T121759Z
DESCRIPTION:Gemeinsam feiern - ein Familiengottesdienst für alle
  Generationen\n\nMitwirkung der Unti-Kinder\nLeitung: Karin Schmid\,
  Katechetin und Diakonin sowie Monika Nägeli\, Katechetin\n\nWeitere
  Informationen zu den Familiengottesdiensten\n\n\nKontakt: Karin Schmid
  und Monika Nägeli\n\nWeitere Infos:
  https://www.kirche-wm.ch/veranstaltung/4289
SUMMARY:Familiengottesdienst
PRIORITY:5
X-MICROSOFT-CDO-IMPORTANCE:1
CLASS:PUBLIC
END:VEVENT
END:VCALENDAR
