BEGIN:VCALENDAR
PRODID:-//kirchenweb.ch gmbh//veranstaltungsausgabe v2.0//DE
VERSION:2.0
METHOD:PUBLISH
BEGIN:VEVENT
DTSTART:20260506T120000Z
DTEND:20260506T141500Z
LOCATION:Kirche\, Landstrasse\, 8463 Benken ZH
TRANSP:OPAQUE
SEQUENCE:0
UID:4349-veranstaltung@kirche-wm.ch
DTSTAMP:20250608T183158Z
DESCRIPTION:Kirchlicher Unterricht Club 5\n\nKontakt: Monika Nägeli\n
 \nWeitere Infos: https://www.kirche-wm.ch/veranstaltung/4349
SUMMARY:Club 5 Benken + Trüllikon
PRIORITY:5
X-MICROSOFT-CDO-IMPORTANCE:1
CLASS:PUBLIC
END:VEVENT
END:VCALENDAR
