BEGIN:VCALENDAR
PRODID:-//kirchenweb.ch gmbh//veranstaltungsausgabe v2.0//DE
VERSION:2.0
METHOD:PUBLISH
BEGIN:VEVENT
DTSTART:20260417T110000Z
DTEND:20260417T153000Z
LOCATION:Ausflug\, \,
TRANSP:OPAQUE
SEQUENCE:0
UID:4368-veranstaltung@kirche-wm.ch
DTSTAMP:20250810T120410Z
DESCRIPTION:Kirchlicher minichile (2. Klasse). + 3. Klass-Unti\n\nKontakt:
  Monika Nägeli\n\n\nWeitere Infos:
  https://www.kirche-wm.ch/veranstaltung/4368
SUMMARY:minichile + 3. Klass-Unti Benken
PRIORITY:5
X-MICROSOFT-CDO-IMPORTANCE:1
CLASS:PUBLIC
END:VEVENT
END:VCALENDAR
