BEGIN:VCALENDAR
PRODID:-//kirchenweb.ch gmbh//veranstaltungsausgabe v2.0//DE
VERSION:2.0
METHOD:PUBLISH
BEGIN:VEVENT
DTSTART:20260605T113000Z
DTEND:20260605T134500Z
LOCATION:Mehrzweckraum Turnhalle Benken\, Schulstrasse\, 8463 Benken ZH
TRANSP:OPAQUE
SEQUENCE:0
UID:4370-veranstaltung@kirche-wm.ch
DTSTAMP:20250810T114944Z
DESCRIPTION:Kirchlicher minichile (2. Klasse) + 3. Klass-Unti\n\n
 \nKontakt: Monika Nägeli\n\n\nWeitere Infos:
  https://www.kirche-wm.ch/veranstaltung/4370
SUMMARY:minichile + 3. Klass-Unti Benken
PRIORITY:5
X-MICROSOFT-CDO-IMPORTANCE:1
CLASS:PUBLIC
END:VEVENT
END:VCALENDAR
