BEGIN:VCALENDAR
PRODID:-//kirchenweb.ch gmbh//veranstaltungsausgabe v2.0//DE
VERSION:2.0
METHOD:PUBLISH
BEGIN:VEVENT
DTSTART:20260410T110000Z
DTEND:20260410T153000Z
LOCATION:Ausflug\, \,
TRANSP:OPAQUE
SEQUENCE:0
UID:4391-veranstaltung@kirche-wm.ch
DTSTAMP:20250810T130531Z
DESCRIPTION:minichile (2. Klassse) + 3. Klass-Unti\nAusflug\n\nKontakt:
  Monika Nägeli\n\nWeitere Infos:
  https://www.kirche-wm.ch/veranstaltung/4391
SUMMARY:minichile + 3. Klass-Unti Trüllikon Ausflug
PRIORITY:5
X-MICROSOFT-CDO-IMPORTANCE:1
CLASS:PUBLIC
END:VEVENT
END:VCALENDAR
