BEGIN:VCALENDAR
PRODID:-//kirchenweb.ch gmbh//veranstaltungsausgabe v2.0//DE
VERSION:2.0
METHOD:PUBLISH
BEGIN:VEVENT
DTSTART:20260509T080000Z
DTEND:20260509T101500Z
LOCATION:Kirchgemeindezentrum\, Poststrasse 6\, 8462 Rheinau
TRANSP:OPAQUE
SEQUENCE:0
UID:4403-veranstaltung@kirche-wm.ch
DTSTAMP:20250608T154134Z
DESCRIPTION:Kirchlicher Unterricht Club 4+5\n\nKontakt: Monika Nägeli\n
 \nWeitere Infos: https://www.kirche-wm.ch/veranstaltung/4403
SUMMARY:Club 4+5 Rheinau
PRIORITY:5
X-MICROSOFT-CDO-IMPORTANCE:1
CLASS:PUBLIC
END:VEVENT
END:VCALENDAR
