BEGIN:VCALENDAR
PRODID:-//kirchenweb.ch gmbh//veranstaltungsausgabe v2.0//DE
VERSION:2.0
METHOD:PUBLISH
BEGIN:VEVENT
DTSTART:20260531T150000Z
DTEND:20260531T160000Z
LOCATION:Bergkirche\, Schulstrasse\, 8462 Rheinau
TRANSP:OPAQUE
SEQUENCE:0
UID:443-veranstaltung@kirche-wm.ch
DTSTAMP:20251013T093105Z
DESCRIPTION:GOSPEL\, POP\, SOUL AND MORE...\n\nKontakt:
  www.zurichgospelchoir.ch\n\nWeitere Infos:
  https://www.kirche-wm.ch/veranstaltung/443
SUMMARY:Zurich Gospel Choir
PRIORITY:5
X-MICROSOFT-CDO-IMPORTANCE:1
CLASS:PUBLIC
END:VEVENT
END:VCALENDAR
