BEGIN:VCALENDAR
PRODID:-//kirchenweb.ch gmbh//veranstaltungsausgabe v2.0//DE
VERSION:2.0
METHOD:PUBLISH
BEGIN:VEVENT
DTSTART:20260420T131000Z
DTEND:20260420T144000Z
LOCATION:Treffpunkt\, Zinggestrass 18\, 8460 Marthalen
TRANSP:OPAQUE
SEQUENCE:0
UID:4450-veranstaltung@kirche-wm.ch
DTSTAMP:20250612T090313Z
DESCRIPTION:Kirchlicher Unterricht 3. Klass-Unti Marthalen\n\nKontakt:
  Karin Schmid\n\nWeitere Infos:
  https://www.kirche-wm.ch/veranstaltung/4450
SUMMARY:3. Klass-Unti Marthalen
PRIORITY:5
X-MICROSOFT-CDO-IMPORTANCE:1
CLASS:PUBLIC
END:VEVENT
END:VCALENDAR
