BEGIN:VCALENDAR
PRODID:-//kirchenweb.ch gmbh//veranstaltungsausgabe v2.0//DE
VERSION:2.0
METHOD:PUBLISH
BEGIN:VEVENT
DTSTART:20260622T131000Z
DTEND:20260622T144000Z
LOCATION:Treffpunkt\, Zinggestrass 18\, 8460 Marthalen
TRANSP:OPAQUE
SEQUENCE:0
UID:4453-veranstaltung@kirche-wm.ch
DTSTAMP:20250612T090321Z
DESCRIPTION:Kirchlicher Unterricht 3. Klass-Unti Marthalen\n\nKontakt:
  Karin Schmid\n\nWeitere Infos:
  https://www.kirche-wm.ch/veranstaltung/4453
SUMMARY:3. Klass-Unti Marthalen
PRIORITY:5
X-MICROSOFT-CDO-IMPORTANCE:1
CLASS:PUBLIC
END:VEVENT
END:VCALENDAR
