BEGIN:VCALENDAR
PRODID:-//kirchenweb.ch gmbh//veranstaltungsausgabe v2.0//DE
VERSION:2.0
METHOD:PUBLISH
BEGIN:VEVENT
DTSTART:20260629T131000Z
DTEND:20260629T144000Z
LOCATION:Treffpunkt\, Zinggestrass 18\, 8460 Marthalen
TRANSP:OPAQUE
SEQUENCE:0
UID:4474-veranstaltung@kirche-wm.ch
DTSTAMP:20250810T112842Z
DESCRIPTION:Kirchlicher Unterricht minichile/2. Klass-Unti\n\nKontakt:
  Karin Schmid\n\nWeitere Infos:
  https://www.kirche-wm.ch/veranstaltung/4474
SUMMARY:minichile Marthalen
PRIORITY:5
X-MICROSOFT-CDO-IMPORTANCE:1
CLASS:PUBLIC
END:VEVENT
END:VCALENDAR
