BEGIN:VCALENDAR
PRODID:-//kirchenweb.ch gmbh//veranstaltungsausgabe v2.0//DE
VERSION:2.0
METHOD:PUBLISH
BEGIN:VEVENT
DTSTART:20260516T073000Z
DTEND:20260516T083000Z
LOCATION:Kirche\, Pfarrwegli\, 8460 Marthalen
TRANSP:OPAQUE
SEQUENCE:0
UID:4532-veranstaltung@kirche-wm.ch
DTSTAMP:20251209T142349Z
DESCRIPTION:Ökumenische Kinderfeier für die Kleinsten (3 - 7 Jahre) und
  ihre Eltern\, Grosseltern\, ...\nGrössere Kinder\, die den Weg
  selbständig meistern\, dürfen gerne unbegleitet kommen.\n\nIm Anschluss
  gibt es einen kleinen Znüni für die Kinder und die Gelegenheit\,
  gemeinsam einen Kaffee zu trinken.\n\nKontakt: Claudia Wipf-Flacher\n
 \nWeitere Infos: https://www.kirche-wm.ch/veranstaltung/4532
SUMMARY:Kolibri für Gross und Chlii Marthalen
PRIORITY:5
X-MICROSOFT-CDO-IMPORTANCE:1
CLASS:PUBLIC
END:VEVENT
END:VCALENDAR
