BEGIN:VCALENDAR
PRODID:-//kirchenweb.ch gmbh//veranstaltungsausgabe v2.0//DE
VERSION:2.0
METHOD:PUBLISH
BEGIN:VEVENT
DTSTART:20260426T170000Z
DTEND:20260426T180000Z
LOCATION:Kirche\, Landstrasse\, 8463 Benken ZH
TRANSP:OPAQUE
SEQUENCE:0
UID:4540-veranstaltung@kirche-wm.ch
DTSTAMP:20251217T122719Z
DESCRIPTION:Fahrdienste\nZu den https://www.kirche-wm.ch/fahrdienst\n
 \nKontakt: Renate Bosshard-Nepustil\n\nWeitere Infos:
  https://www.kirche-wm.ch/veranstaltung/4540
SUMMARY:Abendgottesdienst "Musik und Wort"
PRIORITY:5
X-MICROSOFT-CDO-IMPORTANCE:1
CLASS:PUBLIC
END:VEVENT
END:VCALENDAR
