BEGIN:VCALENDAR
PRODID:-//kirchenweb.ch gmbh//veranstaltungsausgabe v2.0//DE
VERSION:2.0
METHOD:PUBLISH
BEGIN:VEVENT
DTSTART:20260503T073000Z
DTEND:20260503T083000Z
LOCATION:Kirche\, Pfarrwegli\, 8460 Marthalen
TRANSP:OPAQUE
SEQUENCE:0
UID:4542-veranstaltung@kirche-wm.ch
DTSTAMP:20260420T113831Z
DESCRIPTION:11.15 - 12.00 Uhr Podium mit Pfrn. Esther Straub\,
  Präsidentin Zürcher Kirchenrat / Monsignore Luis Varandas\,
  Generalvikar Zürich/Glarus des Bistums Chur / Valentin Abgottspon\,
  Präsident Freidenker Vereinigung Schweiz / Marianne Binder-Keller\,
  Ständerätin Aargau / Serap Kahriman\, Gemeinderätin Zürich\,
  Moderation: Felix Reich\, Redaktionsleiter "reformiert"\nWas hält die
  Gesellschaft zusammen - Perspektiven aus Kultur\, Gesellschaft & Religion
 \n\nAnschliessend Chile-Kafi\n\nParallel zum Kirchenjubiläum am 3. Mai
  2026 von 11 bis 17 Uhr:\nAusstellung zur Kirchengeschichte im Ortsmuseum
 \nund jeden weiteren 1. Sonntag im Monat bis November\, jeweils 14 bis 17
  Uhr\n\n\nFahrdienste\nZu den https://www.kirche-wm.ch/fahrdienst\n
 \nKontakt: Stephanie Gysel\, Pfrn. Esther Straub und Monsignore Luis
  Varandas\n\nWeitere Infos: https://www.kirche-wm.ch/veranstaltung/4542
SUMMARY:Ökumenischer Gedenkgottesdienst zur Weihe der Kirche am 16. Mai
  1126
PRIORITY:5
X-MICROSOFT-CDO-IMPORTANCE:1
CLASS:PUBLIC
END:VEVENT
END:VCALENDAR
