BEGIN:VCALENDAR
PRODID:-//kirchenweb.ch gmbh//veranstaltungsausgabe v2.0//DE
VERSION:2.0
METHOD:PUBLISH
BEGIN:VEVENT
DTSTART:20260517T073000Z
DTEND:20260517T083000Z
LOCATION:Kirche\, Schlossgasse\, 8466 Trüllikon
TRANSP:OPAQUE
SEQUENCE:0
UID:4553-veranstaltung@kirche-wm.ch
DTSTAMP:20251217T122950Z
DESCRIPTION:Anschliessend Begegnung\n\nFahrdienste\nZu den
  https://www.kirche-wm.ch/fahrdienst\n\nKontakt: Renate Bosshard-Nepustil
 \n\nWeitere Infos: https://www.kirche-wm.ch/veranstaltung/4553
SUMMARY:Gottesdienst
PRIORITY:5
X-MICROSOFT-CDO-IMPORTANCE:1
CLASS:PUBLIC
END:VEVENT
END:VCALENDAR
