BEGIN:VCALENDAR
PRODID:-//kirchenweb.ch gmbh//veranstaltungsausgabe v2.0//DE
VERSION:2.0
METHOD:PUBLISH
BEGIN:VEVENT
DTSTART:20260524T080000Z
DTEND:20260524T090000Z
LOCATION:Kirche\, Landstrasse\, 8463 Benken ZH
TRANSP:OPAQUE
SEQUENCE:0
UID:4555-veranstaltung@kirche-wm.ch
DTSTAMP:20260219T063633Z
DESCRIPTION:Anschliessend Apéro\n\nKontakt: Renate Bosshard-Nepustil\n
 \nWeitere Infos: https://www.kirche-wm.ch/veranstaltung/4555
SUMMARY:Konfirmation
PRIORITY:5
X-MICROSOFT-CDO-IMPORTANCE:1
CLASS:PUBLIC
END:VEVENT
END:VCALENDAR
