BEGIN:VCALENDAR
PRODID:-//kirchenweb.ch gmbh//veranstaltungsausgabe v2.0//DE
VERSION:2.0
METHOD:PUBLISH
BEGIN:VEVENT
DTSTART:20260531T170000Z
DTEND:20260531T180000Z
LOCATION:Kirche\, Schlossgasse\, 8466 Trüllikon
TRANSP:OPAQUE
SEQUENCE:0
UID:4556-veranstaltung@kirche-wm.ch
DTSTAMP:20251217T123029Z
DESCRIPTION:Fahrdienste\nZu den https://www.kirche-wm.ch/fahrdienst\n
 \nKontakt: Matthias Bordt\n\nWeitere Infos:
  https://www.kirche-wm.ch/veranstaltung/4556
SUMMARY:Abendgottesdienst "Musik und Wort"
PRIORITY:5
X-MICROSOFT-CDO-IMPORTANCE:1
CLASS:PUBLIC
END:VEVENT
END:VCALENDAR
