BEGIN:VCALENDAR
PRODID:-//kirchenweb.ch gmbh//veranstaltungsausgabe v2.0//DE
VERSION:2.0
METHOD:PUBLISH
BEGIN:VEVENT
DTSTART:20260607T080000Z
DTEND:20260607T090000Z
LOCATION:Kirche\, Landstrasse\, 8463 Benken ZH
TRANSP:OPAQUE
SEQUENCE:0
UID:4557-veranstaltung@kirche-wm.ch
DTSTAMP:20260223T164024Z
DESCRIPTION:Anschliessend Umtrunk\n\nFahrdienste\nZu den
  https://www.kirche-wm.ch/fahrdienst\n\nKontakt: Stephanie Gysel\n
 \nWeitere Infos: https://www.kirche-wm.ch/veranstaltung/4557
SUMMARY:Gottesdienst
PRIORITY:5
X-MICROSOFT-CDO-IMPORTANCE:1
CLASS:PUBLIC
END:VEVENT
END:VCALENDAR
