BEGIN:VCALENDAR
PRODID:-//kirchenweb.ch gmbh//veranstaltungsausgabe v2.0//DE
VERSION:2.0
METHOD:PUBLISH
BEGIN:VEVENT
DTSTART:20260614T073000Z
DTEND:20260614T083000Z
LOCATION:Bergkirche\, Schulstrasse\, 8462 Rheinau
TRANSP:OPAQUE
SEQUENCE:0
UID:4560-veranstaltung@kirche-wm.ch
DTSTAMP:20251209T142652Z
DESCRIPTION:Anschliessend Apéro\n\nFahrdienste\nZu den
  https://www.kirche-wm.ch/fahrdienst\n\nKontakt: Matthias Bordt\n\nWeitere
  Infos: https://www.kirche-wm.ch/veranstaltung/4560
SUMMARY:Gottesdienst
PRIORITY:5
X-MICROSOFT-CDO-IMPORTANCE:1
CLASS:PUBLIC
END:VEVENT
END:VCALENDAR
