BEGIN:VCALENDAR
PRODID:-//kirchenweb.ch gmbh//veranstaltungsausgabe v2.0//DE
VERSION:2.0
METHOD:PUBLISH
BEGIN:VEVENT
DTSTART:20260621T073000Z
DTEND:20260621T083000Z
LOCATION:Kirche\, Pfarrwegli\, 8460 Marthalen
TRANSP:OPAQUE
SEQUENCE:0
UID:4562-veranstaltung@kirche-wm.ch
DTSTAMP:20251223T134734Z
DESCRIPTION:10.45 Uhr Kirchgemeindeversammlung (anschliessend an
  Gottesdienst)\nAnschliessend Apéro\n\nFahrdienste\nZu den
  https://www.kirche-wm.ch/fahrdienst\n\nKontakt: Matthias Bordt\n\nWeitere
  Infos: https://www.kirche-wm.ch/veranstaltung/4562
SUMMARY:Gottesdienst (anschliessend Kirchgemeindeversammlung)
PRIORITY:5
X-MICROSOFT-CDO-IMPORTANCE:1
CLASS:PUBLIC
END:VEVENT
END:VCALENDAR
