BEGIN:VCALENDAR
PRODID:-//kirchenweb.ch gmbh//veranstaltungsausgabe v2.0//DE
VERSION:2.0
METHOD:PUBLISH
BEGIN:VEVENT
DTSTART:20260628T170000Z
DTEND:20260628T180000Z
LOCATION:Kirche\, Strählgass\, 8475 Ossingen
TRANSP:OPAQUE
SEQUENCE:0
UID:4564-veranstaltung@kirche-wm.ch
DTSTAMP:20260310T061915Z
DESCRIPTION:Fahrdienste\nZu den https://www.kirche-wm.ch/fahrdienst\n
 \nKontakt: Renate Bosshard-Nepustil\n\nWeitere Infos:
  https://www.kirche-wm.ch/veranstaltung/4564
SUMMARY:Abendgottesdienst "Musik und Wort"
PRIORITY:5
X-MICROSOFT-CDO-IMPORTANCE:1
CLASS:PUBLIC
END:VEVENT
END:VCALENDAR
