BEGIN:VCALENDAR
PRODID:-//kirchenweb.ch gmbh//veranstaltungsausgabe v2.0//DE
VERSION:2.0
METHOD:PUBLISH
BEGIN:VEVENT
DTSTART:20260705T073000Z
DTEND:20260705T083000Z
LOCATION:Kirche\, Pfarrwegli\, 8460 Marthalen
TRANSP:OPAQUE
SEQUENCE:0
UID:4565-veranstaltung@kirche-wm.ch
DTSTAMP:20260318T134343Z
DESCRIPTION:Anschliessend Chile-Kafi\n\nFahrdienste\nZu den
  https://www.kirche-wm.ch/fahrdienst\n\nKontakt: Matthias Bordt\n\nWeitere
  Infos: https://www.kirche-wm.ch/veranstaltung/4565
SUMMARY:Gottesdienst zur Erweiterung der Kirche 1606 und 1660 mit Taufe
  von Lia Hächler
PRIORITY:5
X-MICROSOFT-CDO-IMPORTANCE:1
CLASS:PUBLIC
END:VEVENT
END:VCALENDAR
