BEGIN:VCALENDAR
PRODID:-//kirchenweb.ch gmbh//veranstaltungsausgabe v2.0//DE
VERSION:2.0
METHOD:PUBLISH
BEGIN:VEVENT
DTSTART:20260704T170000Z
DTEND:20260704T180000Z
LOCATION:Obstgarten\, Obere Breitenstrasse\, 8465 Rudolfingen
TRANSP:OPAQUE
SEQUENCE:0
UID:4566-veranstaltung@kirche-wm.ch
DTSTAMP:20260413T095025Z
DESCRIPTION:Sommernachtsfeier - Gottesdienst im Abendlicht\nIm Anschluss:
 \nOffenes Singen\, gemütliches Beisammensein\, etwas Feines fürs
  leibliche Wohl.\n\nFahrdienste\nZu den
  https://www.kirche-wm.ch/fahrdienst\n\nKontakt: OKK Trüllikon (wird noch
  besprochen)\n\nWeitere Infos: https://www.kirche-wm.ch/veranstaltung/4566
SUMMARY:Gottesdienst im Abendlicht
PRIORITY:5
X-MICROSOFT-CDO-IMPORTANCE:1
CLASS:PUBLIC
END:VEVENT
END:VCALENDAR
