BEGIN:VCALENDAR
PRODID:-//kirchenweb.ch gmbh//veranstaltungsausgabe v2.0//DE
VERSION:2.0
METHOD:PUBLISH
BEGIN:VEVENT
DTSTART:20260712T080000Z
DTEND:20260712T090000Z
LOCATION:Innenhof des ZPBW\, Marthalen\, Oberhusestrass 1\, 8460 Marthalen
TRANSP:OPAQUE
SEQUENCE:0
UID:4567-veranstaltung@kirche-wm.ch
DTSTAMP:20251217T123149Z
DESCRIPTION:Gottesdienst mit Musik ....\nIm Innenhof des ZPBW (bei
  ungewissem Wetter in der Kirche Marthalen)\nInfos über den
  Durchführungsort finden Sie ab 8 Uhr hier.\n\nFahrdienste\nZu den
  https://www.kirche-wm.ch/fahrdienst\n\nKontakt: Matthias Bordt\n\nWeitere
  Infos: https://www.kirche-wm.ch/veranstaltung/4567
SUMMARY:Gottesdienst beim ZPBW
PRIORITY:5
X-MICROSOFT-CDO-IMPORTANCE:1
CLASS:PUBLIC
END:VEVENT
END:VCALENDAR
