BEGIN:VCALENDAR
PRODID:-//kirchenweb.ch gmbh//veranstaltungsausgabe v2.0//DE
VERSION:2.0
METHOD:PUBLISH
BEGIN:VEVENT
DTSTART:20260719T170000Z
DTEND:20260719T180000Z
LOCATION:Kirche\, Hauptstrasse\, 8467 Truttikon
TRANSP:OPAQUE
SEQUENCE:0
UID:4570-veranstaltung@kirche-wm.ch
DTSTAMP:20260413T094028Z
DESCRIPTION:Anschliessend Begegnung\n\nFahrdienste\nZu den
  https://www.kirche-wm.ch/fahrdienst\n\nKontakt: Stephanie Gysel\n
 \nWeitere Infos: https://www.kirche-wm.ch/veranstaltung/4570
SUMMARY:Abendgottesdienst "Musik und Wort"
PRIORITY:5
X-MICROSOFT-CDO-IMPORTANCE:1
CLASS:PUBLIC
END:VEVENT
END:VCALENDAR
