BEGIN:VCALENDAR
PRODID:-//kirchenweb.ch gmbh//veranstaltungsausgabe v2.0//DE
VERSION:2.0
METHOD:PUBLISH
BEGIN:VEVENT
DTSTART:20260726T073000Z
DTEND:20260726T083000Z
LOCATION:Kirche\, Strählgass\, 8475 Ossingen
TRANSP:OPAQUE
SEQUENCE:0
UID:4571-veranstaltung@kirche-wm.ch
DTSTAMP:20260413T094111Z
DESCRIPTION:Anschliessend Chile-Kafi\n\nFahrdienste\nZu den
  https://www.kirche-wm.ch/fahrdienst\n\nKontakt: Renate Bosshard-Nepustil
 \n\nWeitere Infos: https://www.kirche-wm.ch/veranstaltung/4571
SUMMARY:Gottesdienst
PRIORITY:5
X-MICROSOFT-CDO-IMPORTANCE:1
CLASS:PUBLIC
END:VEVENT
END:VCALENDAR
