BEGIN:VCALENDAR
PRODID:-//kirchenweb.ch gmbh//veranstaltungsausgabe v2.0//DE
VERSION:2.0
METHOD:PUBLISH
BEGIN:VEVENT
DTSTART:20260927T090000Z
DTEND:20260927T100000Z
LOCATION:in der alten  Wagenscheune\, Chorbstrasse 10\, 8462 Rheinau
TRANSP:OPAQUE
SEQUENCE:0
UID:4575-veranstaltung@kirche-wm.ch
DTSTAMP:20260219T063502Z
DESCRIPTION:Gottesdienst an der Rheinauer Chilbi\nAnschliessend Apéro\n
 \nFahrdienste\nZu den https://www.kirche-wm.ch/fahrdienst\n\nKontakt:
  Stephanie Gysel\n\nWeitere Infos:
  https://www.kirche-wm.ch/veranstaltung/4575
SUMMARY:Chilbi-Gottesdienst
PRIORITY:5
X-MICROSOFT-CDO-IMPORTANCE:1
CLASS:PUBLIC
END:VEVENT
END:VCALENDAR
