BEGIN:VCALENDAR
PRODID:-//kirchenweb.ch gmbh//veranstaltungsausgabe v2.0//DE
VERSION:2.0
METHOD:PUBLISH
BEGIN:VEVENT
DTSTART:20260927T073000Z
DTEND:20260927T083000Z
LOCATION:Kirche\, Landstrasse\, 8463 Benken ZH
TRANSP:OPAQUE
SEQUENCE:0
UID:4576-veranstaltung@kirche-wm.ch
DTSTAMP:20260309T135644Z
DESCRIPTION:Anschliessend Umtrunk\n\nFahrdienste\nZu den
  https://www.kirche-wm.ch/fahrdienst\n\nKontakt: Renate Bosshard-Nepustil
 \n\nWeitere Infos: https://www.kirche-wm.ch/veranstaltung/4576
SUMMARY:Gottesdienst
PRIORITY:5
X-MICROSOFT-CDO-IMPORTANCE:1
CLASS:PUBLIC
END:VEVENT
END:VCALENDAR
