BEGIN:VCALENDAR
PRODID:-//kirchenweb.ch gmbh//veranstaltungsausgabe v2.0//DE
VERSION:2.0
METHOD:PUBLISH
BEGIN:VEVENT
DTSTART:20261004T073000Z
DTEND:20261004T083000Z
LOCATION:Kirche\, Strählgass\, 8475 Ossingen
TRANSP:OPAQUE
SEQUENCE:0
UID:4577-veranstaltung@kirche-wm.ch
DTSTAMP:20260211T092110Z
DESCRIPTION:Anschliessend Chile-Kafi\n\nFahrdienste\nZu den
  https://www.kirche-wm.ch/fahrdienst\n\nKontakt: Stephanie Gysel\n
 \nWeitere Infos: https://www.kirche-wm.ch/veranstaltung/4577
SUMMARY:Erntedank-Gottesdienst mit Trachtenchor
PRIORITY:5
X-MICROSOFT-CDO-IMPORTANCE:1
CLASS:PUBLIC
END:VEVENT
END:VCALENDAR
