BEGIN:VCALENDAR
PRODID:-//kirchenweb.ch gmbh//veranstaltungsausgabe v2.0//DE
VERSION:2.0
METHOD:PUBLISH
BEGIN:VEVENT
DTSTART:20260802T073000Z
DTEND:20260802T083000Z
LOCATION:Bergkirche\, Schulstrasse\, 8462 Rheinau
TRANSP:OPAQUE
SEQUENCE:0
UID:4615-veranstaltung@kirche-wm.ch
DTSTAMP:20260310T072636Z
DESCRIPTION:Anschliessend Apéro\n\nFahrdienste\nZu den
  https://www.kirche-wm.ch/fahrdienst\n\nKontakt: Eric James Liebmann\n
 \nWeitere Infos: https://www.kirche-wm.ch/veranstaltung/4615
SUMMARY:Gottesdienst
PRIORITY:5
X-MICROSOFT-CDO-IMPORTANCE:1
CLASS:PUBLIC
END:VEVENT
END:VCALENDAR
