BEGIN:VCALENDAR
PRODID:-//kirchenweb.ch gmbh//veranstaltungsausgabe v2.0//DE
VERSION:2.0
METHOD:PUBLISH
BEGIN:VEVENT
DTSTART:20260816T083000Z
DTEND:20260816T093000Z
LOCATION:Waldhütte\, Vorder Rossbuck\, 8465 Wildensbuch
TRANSP:OPAQUE
SEQUENCE:0
UID:4619-veranstaltung@kirche-wm.ch
DTSTAMP:20251217T123325Z
DESCRIPTION:Gottesdienst mit anschliessendem Mittagessen vom Grill\n(Bei
  ungewissem Wetter in der Kirche Trüllikon. Ab 8 Uhr finden Sie hier
  Infos über den Durchführungsort.)\n\nFahrdienste\nZu den
  https://www.kirche-wm.ch/fahrdienst\n\nKontakt: OKK Trüllikon\, Susanne
  Wepfer\n\nWeitere Infos: https://www.kirche-wm.ch/veranstaltung/4619
SUMMARY:Wald-Gottesdienst
PRIORITY:5
X-MICROSOFT-CDO-IMPORTANCE:1
CLASS:PUBLIC
END:VEVENT
END:VCALENDAR
