BEGIN:VCALENDAR
PRODID:-//kirchenweb.ch gmbh//veranstaltungsausgabe v2.0//DE
VERSION:2.0
METHOD:PUBLISH
BEGIN:VEVENT
DTSTART:20260823T073000Z
DTEND:20260823T083000Z
LOCATION:Kirche\, Pfarrwegli\, 8460 Marthalen
TRANSP:OPAQUE
SEQUENCE:0
UID:4620-veranstaltung@kirche-wm.ch
DTSTAMP:20260311T140552Z
DESCRIPTION:In der letzten Sommerferienwoche findet ein Lager für
  Primarschülerinnen und -schüler in Vinelz am Bielersee statt. Neben dem
  Baden\, Spielen und Basteln wird ein Musical eingeübt und im
  Lager-Gottesdienst aufgeführt.\nDie Kinder und das Leiterteam freuen
  sich auf Jung und Alt! \n\nAnschliessend Chile-Kafi und Bilder aus dem
  Sommerlager\n\nFahrdienste\nZu den https://www.kirche-wm.ch/fahrdienst\n
 \nKontakt: Mike Gray\, Rahel Schönberger\n\nWeitere Infos:
  https://www.kirche-wm.ch/veranstaltung/4620
SUMMARY:Lager-Gottesdienst
PRIORITY:5
X-MICROSOFT-CDO-IMPORTANCE:1
CLASS:PUBLIC
END:VEVENT
END:VCALENDAR
