BEGIN:VCALENDAR
PRODID:-//kirchenweb.ch gmbh//veranstaltungsausgabe v2.0//DE
VERSION:2.0
METHOD:PUBLISH
BEGIN:VEVENT
DTSTART:20260823T083000Z
DTEND:20260823T093000Z
LOCATION:Schulhaus Rietacker\, \, 8526 Oberneunforn
TRANSP:OPAQUE
SEQUENCE:0
UID:4621-veranstaltung@kirche-wm.ch
DTSTAMP:20260211T091715Z
DESCRIPTION:Familiengottesdienst in Oberneunforn\nAnschliessend
  Festwirtschaft und Spielangebot für Kinder\n\nFahrdienste\nZu den
  Fahrdienst-Informationen https://www.kirche-wm.ch/fahrdienst\n\nKontakt:
  Matthias Bordt\n\nWeitere Infos:
  https://www.kirche-wm.ch/veranstaltung/4621
SUMMARY:Familiensonntag Oberneunforn (Ossingen)
PRIORITY:5
X-MICROSOFT-CDO-IMPORTANCE:1
CLASS:PUBLIC
END:VEVENT
END:VCALENDAR
