BEGIN:VCALENDAR
PRODID:-//kirchenweb.ch gmbh//veranstaltungsausgabe v2.0//DE
VERSION:2.0
METHOD:PUBLISH
BEGIN:VEVENT
DTSTART:20260830T170000Z
DTEND:20260830T180000Z
LOCATION:Spitzkirche\, Klosterinsel\, 8462 Rheinau
TRANSP:OPAQUE
SEQUENCE:0
UID:4622-veranstaltung@kirche-wm.ch
DTSTAMP:20260330T085934Z
DESCRIPTION:Taizé-Gottesdienste laden ein\, mit den speziellen Liedern
  der ökumenischen Gemeinschaft in Taizé Ruhe und innere Stille zu
  finden. \nAnschliessend Apéro\nWeitere Informationen zu den /taize.\n
 \nFahrdienste\nZu den https://www.kirche-wm.ch/fahrdienst\n\nKontakt:
  Stephanie Gysel\, Pfr. Johannes Oravecz\, Schwestern der Spirituellen
  Weggemeinschaft\n\nWeitere Infos:
  https://www.kirche-wm.ch/veranstaltung/4622
SUMMARY:Taizé-Gottesdienst
PRIORITY:5
X-MICROSOFT-CDO-IMPORTANCE:1
CLASS:PUBLIC
END:VEVENT
END:VCALENDAR
