BEGIN:VCALENDAR
PRODID:-//kirchenweb.ch gmbh//veranstaltungsausgabe v2.0//DE
VERSION:2.0
METHOD:PUBLISH
BEGIN:VEVENT
DTSTART:20261025T160000Z
DTEND:20261025T170000Z
LOCATION:Kirche\, Strählgass\, 8475 Ossingen
TRANSP:OPAQUE
SEQUENCE:0
UID:4626-veranstaltung@kirche-wm.ch
DTSTAMP:20260211T092145Z
DESCRIPTION:Fahrdienste\nZu den https://www.kirche-wm.ch/fahrdienst\n
 \nKontakt: Stephanie Gysel\n\nWeitere Infos:
  https://www.kirche-wm.ch/veranstaltung/4626
SUMMARY:Abendgottesdienst "Musik und Wort"
PRIORITY:5
X-MICROSOFT-CDO-IMPORTANCE:1
CLASS:PUBLIC
END:VEVENT
END:VCALENDAR
