BEGIN:VCALENDAR
PRODID:-//kirchenweb.ch gmbh//veranstaltungsausgabe v2.0//DE
VERSION:2.0
METHOD:PUBLISH
BEGIN:VEVENT
DTSTART:20261101T083000Z
DTEND:20261101T093000Z
LOCATION:Kirche\, Pfarrwegli\, 8460 Marthalen
TRANSP:OPAQUE
SEQUENCE:0
UID:4627-veranstaltung@kirche-wm.ch
DTSTAMP:20260317T085638Z
DESCRIPTION:Gottesdienst & Abschluss Jubiläumsjahr: Renovation 1976 /
  Betrachtung Kirchendecke\nAnschliessend Chile-Kafi\n\nFahrdienste\nZu den
  https://www.kirche-wm.ch/fahrdienst\n\nKontakt: Mike Gray\n\nWeitere
  Infos: https://www.kirche-wm.ch/veranstaltung/4627
SUMMARY:Gottesdienst mit Abendmahl
PRIORITY:5
X-MICROSOFT-CDO-IMPORTANCE:1
CLASS:PUBLIC
END:VEVENT
END:VCALENDAR
