BEGIN:VCALENDAR
PRODID:-//kirchenweb.ch gmbh//veranstaltungsausgabe v2.0//DE
VERSION:2.0
METHOD:PUBLISH
BEGIN:VEVENT
DTSTART:20261114T180000Z
DTEND:20261114T190000Z
LOCATION:Kirche\, Hauptstrasse\, 8467 Truttikon
TRANSP:OPAQUE
SEQUENCE:0
UID:4630-veranstaltung@kirche-wm.ch
DTSTAMP:20260211T092225Z
DESCRIPTION:Anschliessend Drinks und Snacks\n\nFahrdienste\nZu den
  https://www.kirche-wm.ch/fahrdienst\n\nKontakt: Christian Moro\n\nWeitere
  Infos: https://www.kirche-wm.ch/veranstaltung/4630
SUMMARY:Jazz-Gottesdienst
PRIORITY:5
X-MICROSOFT-CDO-IMPORTANCE:1
CLASS:PUBLIC
END:VEVENT
END:VCALENDAR
