BEGIN:VCALENDAR
PRODID:-//kirchenweb.ch gmbh//veranstaltungsausgabe v2.0//DE
VERSION:2.0
METHOD:PUBLISH
BEGIN:VEVENT
DTSTART:20261122T083000Z
DTEND:20261122T093000Z
LOCATION:Kapelle Hausen\, Hausen\, 8475 Ossingen
TRANSP:OPAQUE
SEQUENCE:0
UID:4634-veranstaltung@kirche-wm.ch
DTSTAMP:20260211T092821Z
DESCRIPTION:Fahrdienste\nZu den https://www.kirche-wm.ch/fahrdienst\n
 \nKontakt: doris.brandenberger@kirche-wm.ch\n\nWeitere Infos:
  https://www.kirche-wm.ch/veranstaltung/4634
SUMMARY:Gottesdienst zum Ewigkeitssonntag
PRIORITY:5
X-MICROSOFT-CDO-IMPORTANCE:1
CLASS:PUBLIC
END:VEVENT
END:VCALENDAR
