BEGIN:VCALENDAR
PRODID:-//kirchenweb.ch gmbh//veranstaltungsausgabe v2.0//DE
VERSION:2.0
METHOD:PUBLISH
BEGIN:VEVENT
DTSTART:20261129T160000Z
DTEND:20261129T170000Z
LOCATION:beim Gemeindehaus\, Truttikerstrasse 7\, 8475 Ossingen
TRANSP:OPAQUE
SEQUENCE:0
UID:4635-veranstaltung@kirche-wm.ch
DTSTAMP:20260211T092930Z
DESCRIPTION:Fahrdienste\nZu den Fahrdienst-Informationen
  https://www.kirche-wm.ch/fahrdienst\n\nKontakt: Matthias Bordt\n\nWeitere
  Infos: https://www.kirche-wm.ch/veranstaltung/4635
SUMMARY:Adventsfeier beim Gemeindehaus
PRIORITY:5
X-MICROSOFT-CDO-IMPORTANCE:1
CLASS:PUBLIC
END:VEVENT
END:VCALENDAR
