BEGIN:VCALENDAR
PRODID:-//kirchenweb.ch gmbh//veranstaltungsausgabe v2.0//DE
VERSION:2.0
METHOD:PUBLISH
BEGIN:VEVENT
DTSTART:20261219T160000Z
DTEND:20261219T170000Z
LOCATION:Kirche\, Hauptstrasse\, 8467 Truttikon
TRANSP:OPAQUE
SEQUENCE:0
UID:4641-veranstaltung@kirche-wm.ch
DTSTAMP:20260211T093042Z
DESCRIPTION:Weihnachtsspiel\n\nKontakt: Matthias Bordt\n\nWeitere Infos:
  https://www.kirche-wm.ch/veranstaltung/4641
SUMMARY:Krippenspiel
PRIORITY:5
X-MICROSOFT-CDO-IMPORTANCE:1
CLASS:PUBLIC
END:VEVENT
END:VCALENDAR
