BEGIN:VCALENDAR
PRODID:-//kirchenweb.ch gmbh//veranstaltungsausgabe v2.0//DE
VERSION:2.0
METHOD:PUBLISH
BEGIN:VEVENT
DTSTART:20261213T160000Z
DTEND:20261213T170000Z
LOCATION:Kirche\, Schlossgasse\, 8466 Trüllikon
TRANSP:OPAQUE
SEQUENCE:0
UID:4642-veranstaltung@kirche-wm.ch
DTSTAMP:20260211T093025Z
DESCRIPTION:Weihnachtsspiel\n\nKontakt: Mike Gray\n\nWeitere Infos:
  https://www.kirche-wm.ch/veranstaltung/4642
SUMMARY:Krippenspiel
PRIORITY:5
X-MICROSOFT-CDO-IMPORTANCE:1
CLASS:PUBLIC
END:VEVENT
END:VCALENDAR
