BEGIN:VCALENDAR
PRODID:-//kirchenweb.ch gmbh//veranstaltungsausgabe v2.0//DE
VERSION:2.0
METHOD:PUBLISH
BEGIN:VEVENT
DTSTART:20261218T180000Z
DTEND:20261218T190000Z
LOCATION:Kirche\, Strählgass\, 8475 Ossingen
TRANSP:OPAQUE
SEQUENCE:0
UID:4644-veranstaltung@kirche-wm.ch
DTSTAMP:20260211T093033Z
DESCRIPTION:Weihnachtsspiel \n\nKontakt: Matthias Bordt\n\nWeitere Infos:
  https://www.kirche-wm.ch/veranstaltung/4644
SUMMARY:Krippenspiel
PRIORITY:5
X-MICROSOFT-CDO-IMPORTANCE:1
CLASS:PUBLIC
END:VEVENT
END:VCALENDAR
