BEGIN:VCALENDAR
PRODID:-//kirchenweb.ch gmbh//veranstaltungsausgabe v2.0//DE
VERSION:2.0
METHOD:PUBLISH
BEGIN:VEVENT
DTSTART:20261224T190000Z
DTEND:20261224T200000Z
LOCATION:Kirche\, Landstrasse\, 8463 Benken ZH
TRANSP:OPAQUE
SEQUENCE:0
UID:4646-veranstaltung@kirche-wm.ch
DTSTAMP:20260211T093104Z
DESCRIPTION:Christnachtfeier\n\nKontakt: susanne.egloff@kirche-wm.ch\n
 \nWeitere Infos: https://www.kirche-wm.ch/veranstaltung/4646
SUMMARY:Christnachtfeier
PRIORITY:5
X-MICROSOFT-CDO-IMPORTANCE:1
CLASS:PUBLIC
END:VEVENT
END:VCALENDAR
