BEGIN:VCALENDAR
PRODID:-//kirchenweb.ch gmbh//veranstaltungsausgabe v2.0//DE
VERSION:2.0
METHOD:PUBLISH
BEGIN:VEVENT
DTSTART:20261206T083000Z
DTEND:20261206T093000Z
LOCATION:Kirche\, Schlossgasse\, 8466 Trüllikon
TRANSP:OPAQUE
SEQUENCE:0
UID:4654-veranstaltung@kirche-wm.ch
DTSTAMP:20260211T093011Z
DESCRIPTION:Anschliessend Begegnung\n\nFahrdienste\nZu den
  https://www.kirche-wm.ch/fahrdienst\n\nKontakt: Stephanie Gysel\n
 \nWeitere Infos: https://www.kirche-wm.ch/veranstaltung/4654
SUMMARY:Gottesdienst Feier zum 2. Advent
PRIORITY:5
X-MICROSOFT-CDO-IMPORTANCE:1
CLASS:PUBLIC
END:VEVENT
END:VCALENDAR
