BEGIN:VCALENDAR
PRODID:-//kirchenweb.ch gmbh//veranstaltungsausgabe v2.0//DE
VERSION:2.0
METHOD:PUBLISH
BEGIN:VEVENT
DTSTART:20261017T160000Z
DTEND:20261017T170000Z
LOCATION:Kirche\, Pfarrwegli\, 8460 Marthalen
TRANSP:OPAQUE
SEQUENCE:0
UID:4674-veranstaltung@kirche-wm.ch
DTSTAMP:20251209T145740Z
DESCRIPTION:Gerne nehmen wir Ihre Naturalgaben in der Kirche Marthalen
  entgegen.\n\nSie sind herzlich zum darauffolgenden Erntedank-Gottesdienst
  für Gross und Chlii am Sonntag\, 18.10.2026 in Marthalen eingeladen!\n
 \nKontakt: susanne.egloff@kirche-wm.ch\n\nWeitere Infos:
  https://www.kirche-wm.ch/veranstaltung/4674
SUMMARY:Annahme Erntegaben in Marthalen
PRIORITY:5
X-MICROSOFT-CDO-IMPORTANCE:1
CLASS:PUBLIC
END:VEVENT
END:VCALENDAR
