BEGIN:VCALENDAR
PRODID:-//kirchenweb.ch gmbh//veranstaltungsausgabe v2.0//DE
VERSION:2.0
METHOD:PUBLISH
BEGIN:VEVENT
DTSTART:20260601T163000Z
DTEND:20260601T180000Z
LOCATION:Unterrichtsraum Pfarrhaus\, Strählgass 8\, 8475 Ossingen
TRANSP:OPAQUE
SEQUENCE:0
UID:4729-veranstaltung@kirche-wm.ch
DTSTAMP:20260118T194947Z
DESCRIPTION:In diesem Schuljahr findet der Konf-Unti in 3 Gruppen an zwei
  verschiedenen Wochentage\, in Ossingen oder Marthalen statt. Zudem werden
  an andern Wochentagen gemeinsame Besuche und Projekte durchgeführt.\n
 \nKontakt: Renate Bosshard\n\n\n\nWeitere Infos:
  https://www.kirche-wm.ch/veranstaltung/4729
SUMMARY:Konf-Vorbereitung
PRIORITY:5
X-MICROSOFT-CDO-IMPORTANCE:1
CLASS:PUBLIC
END:VEVENT
END:VCALENDAR
