BEGIN:VCALENDAR
PRODID:-//kirchenweb.ch gmbh//veranstaltungsausgabe v2.0//DE
VERSION:2.0
METHOD:PUBLISH
BEGIN:VEVENT
DTSTART:20260513T140000Z
DTEND:20260513T153000Z
LOCATION:Treffpunkt\, Zinggestrass 18\, 8460 Marthalen
TRANSP:OPAQUE
SEQUENCE:0
UID:4756-veranstaltung@kirche-wm.ch
DTSTAMP:20260211T084058Z
DESCRIPTION:Konf-Vorbereitung\n\nKontakt: Renate Bosshard\n\n\n\nWeitere
  Infos: https://www.kirche-wm.ch/veranstaltung/4756
SUMMARY:Konf-Vorbereitung
PRIORITY:5
X-MICROSOFT-CDO-IMPORTANCE:1
CLASS:PUBLIC
END:VEVENT
END:VCALENDAR
