BEGIN:VCALENDAR
PRODID:-//kirchenweb.ch gmbh//veranstaltungsausgabe v2.0//DE
VERSION:2.0
METHOD:PUBLISH
BEGIN:VEVENT
DTSTART:20260520T163000Z
DTEND:20260520T180000Z
LOCATION:Treffpunkt\, Zinggestrass 18\, 8460 Marthalen
TRANSP:OPAQUE
SEQUENCE:0
UID:4757-veranstaltung@kirche-wm.ch
DTSTAMP:20260211T084145Z
DESCRIPTION:Konf-Vorbereitung\n\nKontakt: Renate Bosshard\n\n\n\nWeitere
  Infos: https://www.kirche-wm.ch/veranstaltung/4757
SUMMARY:Konf-Vorbereitung
PRIORITY:5
X-MICROSOFT-CDO-IMPORTANCE:1
CLASS:PUBLIC
END:VEVENT
END:VCALENDAR
