BEGIN:VCALENDAR
PRODID:-//kirchenweb.ch gmbh//veranstaltungsausgabe v2.0//DE
VERSION:2.0
METHOD:PUBLISH
BEGIN:VEVENT
DTSTART:20260509T073000Z
DTEND:20260509T133000Z
LOCATION:Kirche\, Schlossgasse\, 8466 Trüllikon
TRANSP:OPAQUE
SEQUENCE:0
UID:4771-veranstaltung@kirche-wm.ch
DTSTAMP:20260420T100952Z
DESCRIPTION:In diesem Schuljahr findet der Konf-Unti in 3 Gruppen an zwei
  verschiedenen Wochentage\, in Ossingen oder Marthalen statt. Zudem werden
  an andern Wochentagen gemeinsame Besuche und Projekte durchgeführt.\n
 \nKontakt: Renate Bosshard\n\n\nWeitere Infos:
  https://www.kirche-wm.ch/veranstaltung/4771
SUMMARY:Konf-Unti aller Gruppen
PRIORITY:5
X-MICROSOFT-CDO-IMPORTANCE:1
CLASS:PUBLIC
END:VEVENT
END:VCALENDAR
